BEGIN:VCALENDAR
VERSION:2.0
PRODID:-//MK PZKO Jabłonków - ECPv6.15.18//NONSGML v1.0//EN
CALSCALE:GREGORIAN
METHOD:PUBLISH
X-WR-CALNAME:MK PZKO Jabłonków
X-ORIGINAL-URL:https://www.pzkojablonkow.cz
X-WR-CALDESC:Wydarzenia dla MK PZKO Jabłonków
REFRESH-INTERVAL;VALUE=DURATION:PT1H
X-Robots-Tag:noindex
X-PUBLISHED-TTL:PT1H
BEGIN:VTIMEZONE
TZID:Europe/Prague
BEGIN:DAYLIGHT
TZOFFSETFROM:+0100
TZOFFSETTO:+0200
TZNAME:CEST
DTSTART:20250330T010000
END:DAYLIGHT
BEGIN:STANDARD
TZOFFSETFROM:+0200
TZOFFSETTO:+0100
TZNAME:CET
DTSTART:20251026T010000
END:STANDARD
BEGIN:DAYLIGHT
TZOFFSETFROM:+0100
TZOFFSETTO:+0200
TZNAME:CEST
DTSTART:20260329T010000
END:DAYLIGHT
BEGIN:STANDARD
TZOFFSETFROM:+0200
TZOFFSETTO:+0100
TZNAME:CET
DTSTART:20261025T010000
END:STANDARD
BEGIN:DAYLIGHT
TZOFFSETFROM:+0100
TZOFFSETTO:+0200
TZNAME:CEST
DTSTART:20270328T010000
END:DAYLIGHT
BEGIN:STANDARD
TZOFFSETFROM:+0200
TZOFFSETTO:+0100
TZNAME:CET
DTSTART:20271031T010000
END:STANDARD
END:VTIMEZONE
BEGIN:VEVENT
DTSTART;VALUE=DATE:20260508
DTEND;VALUE=DATE:20260511
DTSTAMP:20260423T002209
CREATED:20260406T163632Z
LAST-MODIFIED:20260409T073718Z
UID:32023-1778198400-1778457599@www.pzkojablonkow.cz
SUMMARY:Wycieczka MK PZKO Jabłonków - Zagadki i piękno natury Dolnego Śląska
DESCRIPTION:DOWIEDZ SIĘ WIĘCEJ I ZAREZERWUJ MIEJSCE
URL:https://www.pzkojablonkow.cz/wydarzenie/wycieczka-mk-pzko-jablonkow-zagadki-i-piekno-natury-dolnego-slaska/
CATEGORIES:Wycieczki
END:VEVENT
END:VCALENDAR