BEGIN:VCALENDAR
VERSION:2.0
PRODID:-//MK PZKO Jabłonków - ECPv6.15.18//NONSGML v1.0//EN
CALSCALE:GREGORIAN
METHOD:PUBLISH
X-ORIGINAL-URL:https://www.pzkojablonkow.cz
X-WR-CALDESC:Wydarzenia dla MK PZKO Jabłonków
REFRESH-INTERVAL;VALUE=DURATION:PT1H
X-Robots-Tag:noindex
X-PUBLISHED-TTL:PT1H
BEGIN:VTIMEZONE
TZID:Europe/Prague
BEGIN:DAYLIGHT
TZOFFSETFROM:+0100
TZOFFSETTO:+0200
TZNAME:CEST
DTSTART:20250330T010000
END:DAYLIGHT
BEGIN:STANDARD
TZOFFSETFROM:+0200
TZOFFSETTO:+0100
TZNAME:CET
DTSTART:20251026T010000
END:STANDARD
BEGIN:DAYLIGHT
TZOFFSETFROM:+0100
TZOFFSETTO:+0200
TZNAME:CEST
DTSTART:20260329T010000
END:DAYLIGHT
BEGIN:STANDARD
TZOFFSETFROM:+0200
TZOFFSETTO:+0100
TZNAME:CET
DTSTART:20261025T010000
END:STANDARD
BEGIN:DAYLIGHT
TZOFFSETFROM:+0100
TZOFFSETTO:+0200
TZNAME:CEST
DTSTART:20270328T010000
END:DAYLIGHT
BEGIN:STANDARD
TZOFFSETFROM:+0200
TZOFFSETTO:+0100
TZNAME:CET
DTSTART:20271031T010000
END:STANDARD
END:VTIMEZONE
BEGIN:VEVENT
DTSTART;TZID=Europe/Prague:20260412T110000
DTEND;TZID=Europe/Prague:20260412T120000
DTSTAMP:20260422T181419
CREATED:20260409T183952Z
LAST-MODIFIED:20260409T184056Z
UID:32126-1775991600-1775995200@www.pzkojablonkow.cz
SUMMARY:Uroczystość wspomnieniowa upamiętniająca mord 12 Polaków dokonany przez nazistów niemieckich
DESCRIPTION:
URL:https://www.pzkojablonkow.cz/wydarzenie/uroczystosci-wspomnieniowej-upamietniajacej-mord-12-polakow-dokonany-przez-nazistow-niemieckich/
LOCATION:przy tablicy na płocie cmentarza żydowskiego w Jabłonkowie.
END:VEVENT
END:VCALENDAR